BEGIN:VCALENDAR
VERSION:2.0
PRODID:-//wp-events-plugin.com//7.2.3.1//EN
TZID:Europe/Berlin
X-WR-TIMEZONE:Europe/Berlin
BEGIN:VEVENT
UID:1-12229@narcotics-anonymous.de
DTSTART;TZID=Europe/Berlin:20230519T173000
DTEND;TZID=Europe/Berlin:20230521T173000
DTSTAMP:20230403T125116Z
URL:https://narcotics-anonymous.de/events/zuerich-convention-2/
SUMMARY:Zürich Convention
DESCRIPTION:Zürich-Convention\n"Ein Versprechen - viele Geschenke"\n\n19.-
 21.5.2023\n\nGZ Buchegg\nBucheggstrasse 93\n8057 Zürich\n\nKontaktinfo si
 ehe Flyer
CATEGORIES:Convention/Party,Top-Event
END:VEVENT
BEGIN:VTIMEZONE
TZID:Europe/Berlin
X-LIC-LOCATION:Europe/Berlin
BEGIN:DAYLIGHT
DTSTART:20230326T030000
TZOFFSETFROM:+0100
TZOFFSETTO:+0200
TZNAME:CEST
END:DAYLIGHT
END:VTIMEZONE
END:VCALENDAR