BEGIN:VCALENDAR
VERSION:2.0
PRODID:-//wp-events-plugin.com//7.2.3.1//EN
TZID:Europe/Berlin
X-WR-TIMEZONE:Europe/Berlin
BEGIN:VEVENT
UID:1-15705@narcotics-anonymous.de
DTSTART;TZID=Europe/Berlin;VALUE=DATE:20260814
DTEND;TZID=Europe/Berlin;VALUE=DATE:20260817
DTSTAMP:20260331T164917Z
URL:https://narcotics-anonymous.de/events/youth-convention-nl/
SUMMARY:Youth Convention NL
DESCRIPTION:\n\nConvention Flyer: 2026_Youth_Convention_NL\nWebsite
ATTACH;FMTTYPE=image/jpeg:https://narcotics-anonymous.de/wp-content/upload
 s/2026/03/2026_Youth_Convention_NL.crop_.jpg
CATEGORIES:Convention/Party,Top-Event
LOCATION:Groepsaccommodatie Klonie\, Ellertsweg 4\, TA Ellertshaar \, Drent
 he\, 9535\, Borger-Odoorn\, Niederlande
GEO:52.8925;6.7375
X-APPLE-STRUCTURED-LOCATION;VALUE=URI;X-ADDRESS=Ellertsweg 4\, TA Ellertsha
 ar \, Drenthe\, 9535\, Borger-Odoorn\, Niederlande;X-APPLE-RADIUS=100;X-TI
 TLE=Groepsaccommodatie Klonie:geo:52.8925,6.7375
END:VEVENT
BEGIN:VTIMEZONE
TZID:Europe/Berlin
X-LIC-LOCATION:Europe/Berlin
BEGIN:DAYLIGHT
DTSTART:20260329T030000
TZOFFSETFROM:+0100
TZOFFSETTO:+0200
TZNAME:CEST
END:DAYLIGHT
END:VTIMEZONE
END:VCALENDAR