BEGIN:VCALENDAR
VERSION:2.0
PRODID:-//wp-events-plugin.com//7.2.3.1//EN
TZID:Europe/Berlin
X-WR-TIMEZONE:Europe/Berlin
BEGIN:VEVENT
UID:1-11006@narcotics-anonymous.de
DTSTART;TZID=Europe/Berlin:20220429T200000
DTEND;TZID=Europe/Berlin:20220430T010000
DTSTAMP:20220422T135205Z
URL:https://narcotics-anonymous.de/events/world-service-conference-tag-3-u
 nd-4/
SUMMARY:World Service Conference\, Tag 3 und 4
DESCRIPTION:\n\nAuf der Welt Service Konferenz treffen sich gewählte Deleg
 ierte\, die über weltweiter Belange von NA beraten und Entscheidungen tre
 ffen\, die sie möglichst bereits in ihren Regionen und Zonen besprochen h
 aben.\n\nDie Konferenz findet am 22.\, 23.\, 29. und 30 April 2022\, jewei
 ls von 11am–1pm\, 2pm–4pm\, Pacific Daylight Time bzw. 20 bis 22 Uhr u
 nd 23 bis 1 Uhr deutscher Zeit\, statt. Die Tagesordnung ist auf der Webse
 ite www.na.org/conference zu finden.\nFür alle interessierten Mitglieder 
 wird die Konferenz auf YouTube per Livestream übertragen. Der Link wird k
 urz nach Eröffnung auf der www.na.org/conference bekannt gegeben.
ATTACH;FMTTYPE=image/jpeg:https://narcotics-anonymous.de/wp-content/upload
 s/2022/04/WSC2022.png
CATEGORIES:Service,Top-Event
END:VEVENT
BEGIN:VTIMEZONE
TZID:Europe/Berlin
X-LIC-LOCATION:Europe/Berlin
BEGIN:DAYLIGHT
DTSTART:20220327T030000
TZOFFSETFROM:+0100
TZOFFSETTO:+0200
TZNAME:CEST
END:DAYLIGHT
END:VTIMEZONE
END:VCALENDAR