BEGIN:VCALENDAR
VERSION:2.0
PRODID:-//wp-events-plugin.com//7.2.3.1//EN
TZID:Europe/Berlin
X-WR-TIMEZONE:Europe/Berlin
BEGIN:VEVENT
UID:1-14604@narcotics-anonymous.de
DTSTART;TZID=Europe/Berlin:20250622T130000
DTEND;TZID=Europe/Berlin:20250622T170000
DTSTAMP:20250427T114713Z
URL:https://narcotics-anonymous.de/events/workshop-4-tradition-online-gebi
 et/
SUMMARY:Workshop 4. Tradition Online-Gebiet
DESCRIPTION:[av_textblock fold_type='' fold_height='' fold_more='Weiterlese
 n' fold_less='Read less' fold_text_style='' fold_btn_align='' textblock_st
 yling_align='' textblock_styling='' textblock_styling_gap='' textblock_sty
 ling_mobile='' size='' av-desktop-font-size='' av-medium-font-size='' av-s
 mall-font-size='' av-mini-font-size='' font_color='' color='' fold_overlay
 _color='' fold_text_color='' fold_btn_color='theme-color' fold_btn_bg_colo
 r='' fold_btn_font_color='' size-btn-text='' av-desktop-font-size-btn-text
 ='' av-medium-font-size-btn-text='' av-small-font-size-btn-text='' av-mini
 -font-size-btn-text='' fold_timer='' z_index_fold='' id='' custom_class=''
  template_class='' av_uid='av-m9zf6flz' sc_version='1.0' admin_preview_bg=
 '']\nWorkshop Online-Gebiet\n4. Tradition im Online-Meeting anwenden\nInfo
 rmation / Sprecherin\, Gruppenarbeit\, Diskussion\n\nhttps://zoom.us/j/893
 3771264?pwd=eHkrYzNtdnFmMzA3bkRaQmFGY1pCUT09\nMeeting-ID: 8933771264\nPW: 
 847695\n\nEinwahlnummer: \n+49 30 5679 5800 Deutschland\n+49 69 3807 9883
  Deutschland+49 695 050 2596 Deutschland+49 69 7104 9922 Deutschland\n[/av
 _textblock]
CATEGORIES:Service
LOCATION:https://zoom.us/j/8933771264?pwd=eHkrYzNtdnFmMzA3bkRaQmFGY1pCUT09
END:VEVENT
BEGIN:VTIMEZONE
TZID:Europe/Berlin
X-LIC-LOCATION:Europe/Berlin
BEGIN:DAYLIGHT
DTSTART:20250330T030000
TZOFFSETFROM:+0100
TZOFFSETTO:+0200
TZNAME:CEST
END:DAYLIGHT
END:VTIMEZONE
END:VCALENDAR