BEGIN:VCALENDAR
VERSION:2.0
PRODID:-//wp-events-plugin.com//7.2.3.1//EN
TZID:Europe/Berlin
X-WR-TIMEZONE:Europe/Berlin
BEGIN:VEVENT
UID:1-11038@narcotics-anonymous.de
DTSTART;TZID=Europe/Berlin;VALUE=DATE:20220812
DTEND;TZID=Europe/Berlin;VALUE=DATE:20220815
DTSTAMP:20220609T170028Z
URL:https://narcotics-anonymous.de/events/westenseeconvention-der-kieler-g
 emeinschaft/
SUMMARY:Westensee-Convention
DESCRIPTION:\n\n
CATEGORIES:Convention/Party,Top-Event
LOCATION:Westensee\, Westensee\, Felde\, Schleswig-Holstein\, 24242\, Rends
 burg-Eckernförde\, Deutschland
GEO:54.284947;9.942868
X-APPLE-STRUCTURED-LOCATION;VALUE=URI;X-ADDRESS=Westensee\, Felde\, Schlesw
 ig-Holstein\, 24242\, Rendsburg-Eckernförde\, Deutschland;X-APPLE-RADIUS=
 100;X-TITLE=Westensee:geo:54.284947,9.942868
END:VEVENT
BEGIN:VTIMEZONE
TZID:Europe/Berlin
X-LIC-LOCATION:Europe/Berlin
BEGIN:DAYLIGHT
DTSTART:20220327T030000
TZOFFSETFROM:+0100
TZOFFSETTO:+0200
TZNAME:CEST
END:DAYLIGHT
END:VTIMEZONE
END:VCALENDAR