BEGIN:VCALENDAR
VERSION:2.0
PRODID:-//wp-events-plugin.com//7.2.3.1//EN
TZID:Europe/Berlin
X-WR-TIMEZONE:Europe/Berlin
BEGIN:VEVENT
UID:1-12296@narcotics-anonymous.de
DTSTART;TZID=Europe/Berlin;VALUE=DATE:20231020
DTEND;TZID=Europe/Berlin;VALUE=DATE:20231023
DTSTAMP:20230604T165653Z
URL:https://narcotics-anonymous.de/events/tuerkiye-regional-convention/
SUMMARY:Türkiye Regional Convention
DESCRIPTION:\n\nReservation Instructions\n\n 	Please add NATAK 20 to the su
 bject line of your reservation e-mails.\n 	Please send your reservations t
 o both:\nTo: info@elistur.com and CC: natakturkiye@gmail.com\n\nSingle roo
 m: 1200 TL (1 person nightly rate)\nDouble room: 800 TL (1 person nightly 
 rate)\nTriple room: 750 TL (1 person nightly rate)\n* These prices are val
 id from 13th October to 29th October 2023\nNote:The room prices are all-in
 clusive.\nNote: Children between the ages of 0-6 are free of charge\, and 
 children between the ages of 7-12 are 50% discounted with 2 adults.\n* In 
 order to avoid the problems experienced in previous Conventions\, do not r
 eserve any extra rooms and if you are not able to come\, please cancel you
 r reservations immediately.\nNA Contact (English)\nBeste\n+90 530 775 50 2
 9\nhttps://www.edmna.org/event/20th-na-turkey-regional-convention/
ATTACH;FMTTYPE=image/jpeg:https://narcotics-anonymous.de/wp-content/upload
 s/2023/06/NATAK20_BODRUM.jpg
CATEGORIES:Convention/Party,Top-Event
LOCATION:Royal Asarlik Beach Hotel\, Bodrum/Muğla\, Türkiye\, Ethem Kapta
 n Sk. No:4\, Bodrum/Muğla\, Muğla\, 48400\, Bodrum\, Türkei
GEO:37.0672;27.3208
X-APPLE-STRUCTURED-LOCATION;VALUE=URI;X-ADDRESS=Ethem Kaptan Sk. No:4\, Bod
 rum/Muğla\, Muğla\, 48400\, Bodrum\, Türkei;X-APPLE-RADIUS=100;X-TITLE=
 Royal Asarlik Beach Hotel\, Bodrum/Muğla\, Türkiye:geo:37.0672,27.3208
END:VEVENT
BEGIN:VTIMEZONE
TZID:Europe/Berlin
X-LIC-LOCATION:Europe/Berlin
BEGIN:DAYLIGHT
DTSTART:20230326T030000
TZOFFSETFROM:+0100
TZOFFSETTO:+0200
TZNAME:CEST
END:DAYLIGHT
END:VTIMEZONE
END:VCALENDAR