BEGIN:VCALENDAR
VERSION:2.0
PRODID:-//wp-events-plugin.com//7.2.3.1//EN
TZID:Europe/Berlin
X-WR-TIMEZONE:Europe/Berlin
BEGIN:VEVENT
UID:1-11246@narcotics-anonymous.de
DTSTART;TZID=Europe/Berlin:20221028T000000
DTEND;TZID=Europe/Berlin:20221030T000000
DTSTAMP:20220918T185656Z
URL:https://narcotics-anonymous.de/events/tuerkei-convention-2022-natak-19
 /
SUMMARY:Türkei Convention 2022 NATAK 19
DESCRIPTION:\n\n
ATTACH;FMTTYPE=image/jpeg:https://narcotics-anonymous.de/wp-content/upload
 s/2022/09/Turkiye_crop.jpg
CATEGORIES:Convention/Party,Top-Event
LOCATION:Kemer Miarosa Beach Hotel\, Sahil Cd. No:48\, Kiriş\, Antalya\, 0
 7990\, Kemer\, Türkei
GEO:36.568497;30.57571
X-APPLE-STRUCTURED-LOCATION;VALUE=URI;X-ADDRESS=Sahil Cd. No:48\, Kiriş\, 
 Antalya\, 07990\, Kemer\, Türkei;X-APPLE-RADIUS=100;X-TITLE=Kemer Miarosa
  Beach Hotel:geo:36.568497,30.57571
END:VEVENT
BEGIN:VTIMEZONE
TZID:Europe/Berlin
X-LIC-LOCATION:Europe/Berlin
BEGIN:DAYLIGHT
DTSTART:20220327T030000
TZOFFSETFROM:+0100
TZOFFSETTO:+0200
TZNAME:CEST
END:DAYLIGHT
END:VTIMEZONE
END:VCALENDAR