BEGIN:VCALENDAR
VERSION:2.0
PRODID:-//wp-events-plugin.com//7.2.3.1//EN
TZID:Europe/Berlin
X-WR-TIMEZONE:Europe/Berlin
BEGIN:VEVENT
UID:1-10797@narcotics-anonymous.de
DTSTART;TZID=Europe/Berlin;VALUE=DATE:20220610
DTEND;TZID=Europe/Berlin;VALUE=DATE:20220613
DTSTAMP:20220609T161723Z
URL:https://narcotics-anonymous.de/events/trogir-adriatic-summer-conventio
 n/
SUMMARY:Trogir - Adriatic Summer Convention
DESCRIPTION:
ATTACH;FMTTYPE=image/jpeg:https://narcotics-anonymous.de/wp-content/upload
 s/2022/03/Kroatien_crop.jpg
CATEGORIES:Convention/Party,Top-Event
LOCATION:Hotel Medena Trogir\, Hrvatskih žrtava 185 \, Seget Donji\, 21218
 \, Gespanschaft Split-Dalmatien\, Kroatien
GEO:43.515984;16.213282
X-APPLE-STRUCTURED-LOCATION;VALUE=URI;X-ADDRESS=Hrvatskih žrtava 185 \, Se
 get Donji\, 21218\, Gespanschaft Split-Dalmatien\, Kroatien;X-APPLE-RADIUS
 =100;X-TITLE=Hotel Medena Trogir:geo:43.515984,16.213282
END:VEVENT
BEGIN:VTIMEZONE
TZID:Europe/Berlin
X-LIC-LOCATION:Europe/Berlin
BEGIN:DAYLIGHT
DTSTART:20220327T030000
TZOFFSETFROM:+0100
TZOFFSETTO:+0200
TZNAME:CEST
END:DAYLIGHT
END:VTIMEZONE
END:VCALENDAR