BEGIN:VCALENDAR
VERSION:2.0
PRODID:-//wp-events-plugin.com//7.2.3.1//EN
TZID:Europe/Berlin
X-WR-TIMEZONE:Europe/Berlin
BEGIN:VEVENT
UID:1-11720@narcotics-anonymous.de
DTSTART;TZID=Europe/Berlin:20221231T190000
DTEND;TZID=Europe/Berlin:20221231T190000
DTSTAMP:20221230T114921Z
URL:https://narcotics-anonymous.de/events/sylvesterparty-frankfurt/
SUMMARY:Sylvesterparty Frankfurt
DESCRIPTION:Sylvesterparty Frankfurt\n\nBeginn 19:00\nMeeting 19:30\n\nDana
 ch Party\, Musik\, Essen + Trinken\n\nOrt: Hesseschule\, Hainerweg 98\, Fr
 ankfurt
CATEGORIES:Convention/Party,Top-Event
END:VEVENT
BEGIN:VTIMEZONE
TZID:Europe/Berlin
X-LIC-LOCATION:Europe/Berlin
BEGIN:STANDARD
DTSTART:20221030T020000
TZOFFSETFROM:+0200
TZOFFSETTO:+0100
TZNAME:CET
END:STANDARD
END:VTIMEZONE
END:VCALENDAR