BEGIN:VCALENDAR
VERSION:2.0
PRODID:-//wp-events-plugin.com//7.2.3.1//EN
TZID:Europe/Berlin
X-WR-TIMEZONE:Europe/Berlin
BEGIN:VEVENT
UID:1-10079@narcotics-anonymous.de
DTSTART;TZID=Europe/Berlin:20211204T200000
DTEND;TZID=Europe/Berlin:20211204T235900
DTSTAMP:20211122T172004Z
URL:https://narcotics-anonymous.de/events/sponsorship-day/
SUMMARY:Sponsorship Day
DESCRIPTION:\n\nAchtung\, die Zeitangabe ist in Standard Pacific Time. In D
 E findet die Veranstaltung von 20 bis 24 Uhr statt.
ATTACH;FMTTYPE=image/jpeg:https://narcotics-anonymous.de/wp-content/upload
 s/2021/11/2021_12_-4_Sponsorship_day_22_crop.jpg
CATEGORIES:Top-Event
END:VEVENT
BEGIN:VTIMEZONE
TZID:Europe/Berlin
X-LIC-LOCATION:Europe/Berlin
BEGIN:STANDARD
DTSTART:20211031T020000
TZOFFSETFROM:+0200
TZOFFSETTO:+0100
TZNAME:CET
END:STANDARD
END:VTIMEZONE
END:VCALENDAR