BEGIN:VCALENDAR
VERSION:2.0
PRODID:-//wp-events-plugin.com//7.2.3.1//EN
TZID:Europe/Berlin
X-WR-TIMEZONE:Europe/Berlin
BEGIN:VEVENT
UID:1-13273@narcotics-anonymous.de
DTSTART;TZID=Europe/Berlin;VALUE=DATE:20250310
DTEND;TZID=Europe/Berlin;VALUE=DATE:20250316
DTSTAMP:20250128T151134Z
URL:https://narcotics-anonymous.de/events/ski-recovery-na-norwegen-2025/
SUMMARY:Ski &amp\; Recovery NA-Norwegen 2025
DESCRIPTION:\n\n\n\nWeitere Infos hier
ATTACH;FMTTYPE=image/jpeg:https://narcotics-anonymous.de/wp-content/upload
 s/2023/12/Ski-and-recovery-2024-crop.jpg
CATEGORIES:Convention/Party,Top-Event
LOCATION:Trysil\, Trysil\, Trysil\, Innlandet\, Norwegen
GEO:61.315145;12.263861
X-APPLE-STRUCTURED-LOCATION;VALUE=URI;X-ADDRESS=Trysil\, Trysil\, Innlandet
 \, Norwegen;X-APPLE-RADIUS=100;X-TITLE=Trysil:geo:61.315145,12.263861
END:VEVENT
BEGIN:VTIMEZONE
TZID:Europe/Berlin
X-LIC-LOCATION:Europe/Berlin
BEGIN:STANDARD
DTSTART:20241027T020000
TZOFFSETFROM:+0200
TZOFFSETTO:+0100
TZNAME:CET
END:STANDARD
END:VTIMEZONE
END:VCALENDAR