BEGIN:VCALENDAR
VERSION:2.0
PRODID:-//wp-events-plugin.com//7.2.3.1//EN
TZID:Europe/Berlin
X-WR-TIMEZONE:Europe/Berlin
BEGIN:VEVENT
UID:1-11012@narcotics-anonymous.de
DTSTART;TZID=Europe/Berlin:20220805T000000
DTEND;TZID=Europe/Berlin:20220806T000000
DTSTAMP:20220724T080212Z
URL:https://narcotics-anonymous.de/events/ruhrpott-convention/
SUMMARY:Ruhrpott Convention
DESCRIPTION:\n\nAuf der Convention ist für alle für Verpflegung gesorgt\,
  auch für Vegetarier. Aus diesem Grund möchten wir euch bitten auf jegli
 che Lebensmittelspenden zu verzichten. Das wäre schade wenn wir am Ende L
 ebensmittel wegschmeißen müssen.\n\nFür Hilfe beim Service wären wir s
 ehr dankbar sprecht uns einfach vor Ort an. Wer Lust hat beim Aufbau zu he
 lfen kann um 11:00 Uhr vor Ort sein.\n\nIn den Räumlichkeiten der Veranst
 altung sind Hunde nicht gestattet. Allerdings ein Hund wird vor Ort sein d
 er Hund der Hausmeisterin sie muss vor Ort sein da hat der Hund Hausrecht.
 \n\nFür kurzentschlossene neun Euro Ticket Benutzer und Sparfüchse es gi
 bt zwei Campingplätze in Hattingen. Ansonsten über die üblichen Anbiete
 r Hotelzimmer buchen. Der offizielle Beginn ist am 05.08 um 15:00 Uhr. Vor
  der Einrichtung ist eine größere Wiese dort kann man sich gerne mit Dec
 ke niederlassen also bring eine Decke mit.\n\nWir freuen uns sehr auf euch
  Gute 24
CATEGORIES:Convention/Party,Top-Event
LOCATION:Hattingen\, Schützstraße 2 A\, Hattingen\, Nordrhein-Westfalen\,
  45529\, Ennepe-Ruhr-Kreis\, Deutschland
GEO:51.412244;7.171383
X-APPLE-STRUCTURED-LOCATION;VALUE=URI;X-ADDRESS=Schützstraße 2 A\, Hattin
 gen\, Nordrhein-Westfalen\, 45529\, Ennepe-Ruhr-Kreis\, Deutschland;X-APPL
 E-RADIUS=100;X-TITLE=Hattingen:geo:51.412244,7.171383
END:VEVENT
BEGIN:VTIMEZONE
TZID:Europe/Berlin
X-LIC-LOCATION:Europe/Berlin
BEGIN:DAYLIGHT
DTSTART:20220327T030000
TZOFFSETFROM:+0100
TZOFFSETTO:+0200
TZNAME:CEST
END:DAYLIGHT
END:VTIMEZONE
END:VCALENDAR