BEGIN:VCALENDAR
VERSION:2.0
PRODID:-//wp-events-plugin.com//7.2.3.1//EN
TZID:Europe/Berlin
X-WR-TIMEZONE:Europe/Berlin
BEGIN:VEVENT
UID:1-13145@narcotics-anonymous.de
DTSTART;TZID=Europe/Berlin:20231119T200000
DTEND;TZID=Europe/Berlin:20231119T210000
DTSTAMP:20240218T163853Z
URL:https://narcotics-anonymous.de/events/rsk-talk-6/
SUMMARY:RSK-Talk
DESCRIPTION:Meeting-ID: 8933771264\nPasswort: 847695\n\nEinwahlnummer: \n+
 49 30 5679 5800 Deutschland
CATEGORIES:Service
END:VEVENT
BEGIN:VTIMEZONE
TZID:Europe/Berlin
X-LIC-LOCATION:Europe/Berlin
BEGIN:STANDARD
DTSTART:20231029T020000
TZOFFSETFROM:+0200
TZOFFSETTO:+0100
TZNAME:CET
END:STANDARD
END:VTIMEZONE
END:VCALENDAR