BEGIN:VCALENDAR
VERSION:2.0
PRODID:-//wp-events-plugin.com//7.2.3.1//EN
TZID:Europe/Berlin
X-WR-TIMEZONE:Europe/Berlin
BEGIN:VEVENT
UID:1-14698@narcotics-anonymous.de
DTSTART;TZID=Europe/Berlin:20250607T143000
DTEND;TZID=Europe/Berlin:20250607T163000
DTSTAMP:20250606T192041Z
URL:https://narcotics-anonymous.de/events/regionsversammlung-uebertragung/
SUMMARY:Regionsversammlung Übertragung
DESCRIPTION:Meeting-ID: 826 2830 8626\nKenncode: 122412\n\nEinwahlnummer: 
 \n+49 30 5679 5800 Deutschland\n+49 69 3807 9883 Deutschland+49 695 050 25
 96 Deutschland+49 69 7104 9922 Deutschland
CATEGORIES:Service
LOCATION:https://us06web.zoom.us/j/82628308626?pwd=NkJBdkZlTTl2dnFJMHlPYk02
 ektvdz09
END:VEVENT
BEGIN:VTIMEZONE
TZID:Europe/Berlin
X-LIC-LOCATION:Europe/Berlin
BEGIN:DAYLIGHT
DTSTART:20250330T030000
TZOFFSETFROM:+0100
TZOFFSETTO:+0200
TZNAME:CEST
END:DAYLIGHT
END:VTIMEZONE
END:VCALENDAR