BEGIN:VCALENDAR
VERSION:2.0
PRODID:-//wp-events-plugin.com//7.2.3.1//EN
TZID:Europe/Berlin
X-WR-TIMEZONE:Europe/Berlin
BEGIN:VEVENT
UID:1-11099@narcotics-anonymous.de
DTSTART;TZID=Europe/Berlin:20220930T000000
DTEND;TZID=Europe/Berlin:20221002T000000
DTSTAMP:20220707T210309Z
URL:https://narcotics-anonymous.de/events/reg-convention-italien-palermo/
SUMMARY:Reg. Convention Italien\, Palermo
DESCRIPTION:Die Insel der Genesung\nWer NA findet\, findet einen Schatz\nTr
 anslation available: english / espanol\n\n
CATEGORIES:Convention/Party,Top-Event
LOCATION:CDS Terrasini\, SS 113 KM 301\,100\, Terrasini\, Sizilien\, 90049\
 , Palermo\, Italien
GEO:38.1462;13.0832
X-APPLE-STRUCTURED-LOCATION;VALUE=URI;X-ADDRESS=SS 113 KM 301\,100\, Terras
 ini\, Sizilien\, 90049\, Palermo\, Italien;X-APPLE-RADIUS=100;X-TITLE=CDS 
 Terrasini:geo:38.1462,13.0832
END:VEVENT
BEGIN:VTIMEZONE
TZID:Europe/Berlin
X-LIC-LOCATION:Europe/Berlin
BEGIN:DAYLIGHT
DTSTART:20220327T030000
TZOFFSETFROM:+0100
TZOFFSETTO:+0200
TZNAME:CEST
END:DAYLIGHT
END:VTIMEZONE
END:VCALENDAR