BEGIN:VCALENDAR
VERSION:2.0
PRODID:-//wp-events-plugin.com//7.2.3.1//EN
TZID:Europe/Berlin
X-WR-TIMEZONE:Europe/Berlin
BEGIN:VEVENT
UID:1-9912@narcotics-anonymous.de
DTSTART;TZID=Europe/Berlin:20211024T210000
DTEND;TZID=Europe/Berlin:20211024T220000
DTSTAMP:20211016T130457Z
URL:https://narcotics-anonymous.de/events/oeak-region-2/
SUMMARY:ÖAK Region
DESCRIPTION:Arbeitsmeeting des Öffentlichkeitsarbeitskomitees (ÖAK) der d
 eutschsprachigen Region\n\n(Normalerweise tagt das ÖAK an jedem 3. Sonnta
 g des Monats. Dieser Termin musste aus personellen Gründen um eine Woche 
 verschoben werden.)\n\nAls Tagesordnung schlagen wir vor:\n\n 	Willkommen 
 für das neue ÖAK West\n 	Teilnahme und NA repräsentieren auf der DHS Fa
 chkonferenz Sucht\n 	RSK Beschluss Look &amp\; Feel - Umsetzung\n 	Wahlen\
 n
CATEGORIES:Service
LOCATION:Video-Veranstaltung\, RSK\, Zoom-Raum\, Deutschland
X-APPLE-STRUCTURED-LOCATION;VALUE=URI;X-ADDRESS=RSK\, Zoom-Raum\, Deutschla
 nd;X-APPLE-RADIUS=100;X-TITLE=Video-Veranstaltung:geo:0,0
END:VEVENT
BEGIN:VTIMEZONE
TZID:Europe/Berlin
X-LIC-LOCATION:Europe/Berlin
BEGIN:DAYLIGHT
DTSTART:20210328T030000
TZOFFSETFROM:+0100
TZOFFSETTO:+0200
TZNAME:CEST
END:DAYLIGHT
END:VTIMEZONE
END:VCALENDAR