BEGIN:VCALENDAR
VERSION:2.0
PRODID:-//wp-events-plugin.com//7.2.3.1//EN
TZID:Europe/Berlin
X-WR-TIMEZONE:Europe/Berlin
BEGIN:VEVENT
UID:1-13253@narcotics-anonymous.de
DTSTART;TZID=Europe/Berlin:20250413T210000
DTEND;TZID=Europe/Berlin:20250413T223000
DTSTAMP:20250410T053734Z
URL:https://narcotics-anonymous.de/events/oea-komitee-2025-04-13/
SUMMARY:ÖA Komitee Region
DESCRIPTION:Arbeitsmeeting des Komitees für Öffentlichkeitsarbeit der deu
 tschsprachigen Region\n\nVorläufige Agenda 13.04.2025:\n\n 	Statusabfrage
  offener Punkte aus vergangenen Protokollen\nu.a. Podcast\, Hubspot\, Medi
 enspiegel\, DSGVO &amp\; Urheberrecht\, ÖA Online Infotermine\, offene Ei
 nladung zu "Erfahrung zu Online-Infomeetings"\, ausstehende Protokolle\, e
 tc.pp.\n 	Organisatorisches\n\n 	Letztes ÖAK-Treffen\n\n\n 	Sonstiges\n
CATEGORIES:Service
LOCATION:Video-Veranstaltung\, RSK\, Zoom-Raum\, Deutschland
X-APPLE-STRUCTURED-LOCATION;VALUE=URI;X-ADDRESS=RSK\, Zoom-Raum\, Deutschla
 nd;X-APPLE-RADIUS=100;X-TITLE=Video-Veranstaltung:geo:0,0
END:VEVENT
BEGIN:VTIMEZONE
TZID:Europe/Berlin
X-LIC-LOCATION:Europe/Berlin
BEGIN:DAYLIGHT
DTSTART:20250330T030000
TZOFFSETFROM:+0100
TZOFFSETTO:+0200
TZNAME:CEST
END:DAYLIGHT
END:VTIMEZONE
END:VCALENDAR