BEGIN:VCALENDAR
VERSION:2.0
PRODID:-//wp-events-plugin.com//7.2.3.1//EN
TZID:Europe/Berlin
X-WR-TIMEZONE:Europe/Berlin
BEGIN:VEVENT
UID:1-13250@narcotics-anonymous.de
DTSTART;TZID=Europe/Berlin:20250112T210000
DTEND;TZID=Europe/Berlin:20250112T223000
DTSTAMP:20250105T224348Z
URL:https://narcotics-anonymous.de/events/oea-komitee-2025-01-12/
SUMMARY:ÖA Komitee Region
DESCRIPTION:Arbeitsmeeting des Komitees für Öffentlichkeitsarbeit der deu
 tschsprachigen Region\n\nVorläufige Agenda 12.01.2025:\n\n 	Organisatoris
 ches\n\n 	Ablauf ÖAK-Treffen\n 	E-Mailverteiler\n 	Protokolle\n\n\n 	Weit
 ere Diskussion “Möglichkeiten der Finanzierung/Realisierung von ÖA-Akt
 ionen”\n\n 	Rückmeldung zu letztem Protokoll\, Punkt 5\n 	Einladung PR-
 EDM-Menschen zum Erfahrungsaustausch "Finanzierung ÖA-Aktionen" anderer L
 änder/Gebiete\n\n\n 	Statusabfrage offener Punkte aus vergangenen Protoko
 llen\nu.a. Podcast\, Hubspot\, Medienspiegel\, DSGVO &amp\; Urheberrecht\,
  ÖA Online Infotermine\, offene Einladung zu "Erfahrung zu Online-Infomee
 tings"\, ausstehende Protokolle\, etc.pp.\n 	Sonstiges\n\nTeilnehmen kanns
 t du über folgenden Link:\n\nZoom-Meeting beitreten
CATEGORIES:Service
LOCATION:Video-Veranstaltung\, RSK\, Zoom-Raum\, Deutschland
X-APPLE-STRUCTURED-LOCATION;VALUE=URI;X-ADDRESS=RSK\, Zoom-Raum\, Deutschla
 nd;X-APPLE-RADIUS=100;X-TITLE=Video-Veranstaltung:geo:0,0
END:VEVENT
BEGIN:VTIMEZONE
TZID:Europe/Berlin
X-LIC-LOCATION:Europe/Berlin
BEGIN:STANDARD
DTSTART:20241027T020000
TZOFFSETFROM:+0200
TZOFFSETTO:+0100
TZNAME:CET
END:STANDARD
END:VTIMEZONE
END:VCALENDAR