BEGIN:VCALENDAR
VERSION:2.0
PRODID:-//wp-events-plugin.com//7.2.3.1//EN
TZID:Europe/Berlin
X-WR-TIMEZONE:Europe/Berlin
BEGIN:VEVENT
UID:1-9595@narcotics-anonymous.de
DTSTART;TZID=Europe/Berlin:20211022T000000
DTEND;TZID=Europe/Berlin:20211024T000000
DTSTAMP:20210922T115533Z
URL:https://narcotics-anonymous.de/events/natak-18-antalya-tuerkei/
SUMMARY:NATAK-18 Antalya Türkei
DESCRIPTION:
CATEGORIES:Convention/Party,Top-Event
LOCATION:Simena Hotels\, Camyuva\, Kemer\, Antalya\, 07990\, Kemer\, Türke
 i
GEO:36.554852;30.567308
X-APPLE-STRUCTURED-LOCATION;VALUE=URI;X-ADDRESS=Camyuva\, Kemer\, Antalya\,
  07990\, Kemer\, Türkei;X-APPLE-RADIUS=100;X-TITLE=Simena Hotels:geo:36.5
 54852,30.567308
END:VEVENT
BEGIN:VTIMEZONE
TZID:Europe/Berlin
X-LIC-LOCATION:Europe/Berlin
BEGIN:DAYLIGHT
DTSTART:20210328T030000
TZOFFSETFROM:+0100
TZOFFSETTO:+0200
TZNAME:CEST
END:DAYLIGHT
END:VTIMEZONE
END:VCALENDAR