BEGIN:VCALENDAR
VERSION:2.0
PRODID:-//wp-events-plugin.com//7.2.3.1//EN
TZID:Europe/Berlin
X-WR-TIMEZONE:Europe/Berlin
BEGIN:VEVENT
UID:1-11676@narcotics-anonymous.de
DTSTART;TZID=Europe/Berlin:20230114T120000
DTEND;TZID=Europe/Berlin:20230114T133000
DTSTAMP:20221212T210230Z
URL:https://narcotics-anonymous.de/events/meeting-yournal-gazeta-na-msk-ru
 -2/
SUMMARY:Meeting YourNAl / gazeta.na-msk.ru
DESCRIPTION:Meeting between the two online magazines https://narcotics-anon
 ymous.de/yournal/ and https://gazeta.na-msk.ru/\nLanguage: English\n\nhttp
 s://zoom.us/j/8933771264?pwd=eHkrYzNtdnFmMzA3bkRaQmFGY1pCUT09\nMeeting-ID:
  8933771264\nPW: 847695\n\nEinwahlnummer: \n+49 30 5679 5800 Deutschland\
 n+49 69 3807 9883 Deutschland+49 695 050 2596 Deutschland+49 69 7104 9922 
 Deutschland
CATEGORIES:Service
LOCATION:https://zoom.us/j/8933771264?pwd=eHkrYzNtdnFmMzA3bkRaQmFGY1pCUT09
END:VEVENT
BEGIN:VTIMEZONE
TZID:Europe/Berlin
X-LIC-LOCATION:Europe/Berlin
BEGIN:STANDARD
DTSTART:20221030T020000
TZOFFSETFROM:+0200
TZOFFSETTO:+0100
TZNAME:CET
END:STANDARD
END:VTIMEZONE
END:VCALENDAR