BEGIN:VCALENDAR
VERSION:2.0
PRODID:-//wp-events-plugin.com//7.2.3.1//EN
TZID:Europe/Berlin
X-WR-TIMEZONE:Europe/Berlin
BEGIN:VEVENT
UID:1-10235@narcotics-anonymous.de
DTSTART;TZID=Europe/Berlin:20211211T100000
DTEND;TZID=Europe/Berlin:20211211T150000
DTSTAMP:20211210T190903Z
URL:https://narcotics-anonymous.de/events/litkom-9/
SUMMARY:Litkom
DESCRIPTION:&nbsp\;\n\n\n\n\nLitkom-Zoom-Meeting\nhttps://zoom.us/j/8933771
 264?pwd=eHkrYzNtdnFmMzA3bkRaQmFGY1pCUT09\nMeeting-ID: 8933771264\nPW: 8476
 95\n\n\n\n&nbsp\;
CATEGORIES:Service
END:VEVENT
BEGIN:VTIMEZONE
TZID:Europe/Berlin
X-LIC-LOCATION:Europe/Berlin
BEGIN:STANDARD
DTSTART:20211031T020000
TZOFFSETFROM:+0200
TZOFFSETTO:+0100
TZNAME:CET
END:STANDARD
END:VTIMEZONE
END:VCALENDAR