BEGIN:VCALENDAR
VERSION:2.0
PRODID:-//wp-events-plugin.com//7.2.3.1//EN
TZID:Europe/Berlin
X-WR-TIMEZONE:Europe/Berlin
BEGIN:VEVENT
UID:1-10081@narcotics-anonymous.de
DTSTART;TZID=Europe/Berlin:20220311T000000
DTEND;TZID=Europe/Berlin:20220313T000000
DTSTAMP:20211122T174328Z
URL:https://narcotics-anonymous.de/events/irland-convention-ostern/
SUMMARY:Irland Oster-Convention
DESCRIPTION:\n\n
CATEGORIES:Convention/Party,Top-Event
LOCATION:Kilkenny Irland\, Springhill Court Hotel\, Kilkenny\, Leinster\, R
 95 XV2D\, County Kilkenny\, Irland
GEO:52.632342;-7.251297
X-APPLE-STRUCTURED-LOCATION;VALUE=URI;X-ADDRESS=Springhill Court Hotel\, Ki
 lkenny\, Leinster\, R95 XV2D\, County Kilkenny\, Irland;X-APPLE-RADIUS=100
 ;X-TITLE=Kilkenny Irland:geo:52.632342,-7.251297
END:VEVENT
BEGIN:VTIMEZONE
TZID:Europe/Berlin
X-LIC-LOCATION:Europe/Berlin
BEGIN:STANDARD
DTSTART:20211031T020000
TZOFFSETFROM:+0200
TZOFFSETTO:+0100
TZNAME:CET
END:STANDARD
END:VTIMEZONE
END:VCALENDAR