BEGIN:VCALENDAR
VERSION:2.0
PRODID:-//wp-events-plugin.com//7.2.3.1//EN
TZID:Europe/Berlin
X-WR-TIMEZONE:Europe/Berlin
BEGIN:VEVENT
UID:1-12662@narcotics-anonymous.de
DTSTART;TZID=Europe/Berlin:20231202T110000
DTEND;TZID=Europe/Berlin:20231202T180000
DTSTAMP:20231109T125443Z
URL:https://narcotics-anonymous.de/events/infojam-berlin-4/
SUMMARY:InfoJam Berlin #4
DESCRIPTION:\n\nSeminarraum 1 im 1. Stock
ATTACH;FMTTYPE=image/jpeg:https://narcotics-anonymous.de/wp-content/upload
 s/2023/11/InfoJam_4_crop-1.jpg
CATEGORIES:Convention/Party,Service,Top-Event
LOCATION:NA-Basis Berlin\, Franz-Mehring-Platz 1\, Berlin\, Berlin\, 10243\
 , Deutschland
GEO:52.512738;13.440575
X-APPLE-STRUCTURED-LOCATION;VALUE=URI;X-ADDRESS=Franz-Mehring-Platz 1\, Ber
 lin\, Berlin\, 10243\, Deutschland;X-APPLE-RADIUS=100;X-TITLE=NA-Basis Ber
 lin:geo:52.512738,13.440575
END:VEVENT
BEGIN:VTIMEZONE
TZID:Europe/Berlin
X-LIC-LOCATION:Europe/Berlin
BEGIN:STANDARD
DTSTART:20231029T020000
TZOFFSETFROM:+0200
TZOFFSETTO:+0100
TZNAME:CET
END:STANDARD
END:VTIMEZONE
END:VCALENDAR