BEGIN:VCALENDAR
VERSION:2.0
PRODID:-//wp-events-plugin.com//7.2.3.1//EN
TZID:Europe/Berlin
X-WR-TIMEZONE:Europe/Berlin
BEGIN:VEVENT
UID:1-11106@narcotics-anonymous.de
DTSTART;TZID=Europe/Berlin;VALUE=DATE:20220729
DTEND;TZID=Europe/Berlin;VALUE=DATE:20220801
DTSTAMP:20220726T073229Z
URL:https://narcotics-anonymous.de/events/hucna20-20-ungarische-convention
 /
SUMMARY:HUCNA20 – 20. ungarische Convention
DESCRIPTION:HUCNA20 – 20. ungarische Convention\n\nin Kecskemét 29.-31. 
 Juli 2022.\n\n
ATTACH;FMTTYPE=image/jpeg:https://narcotics-anonymous.de/wp-content/upload
 s/2022/07/294175084_400408725263267_8006049747849031834_n.jpg
CATEGORIES:Convention/Party,Top-Event
END:VEVENT
BEGIN:VTIMEZONE
TZID:Europe/Berlin
X-LIC-LOCATION:Europe/Berlin
BEGIN:DAYLIGHT
DTSTART:20220327T030000
TZOFFSETFROM:+0100
TZOFFSETTO:+0200
TZNAME:CEST
END:DAYLIGHT
END:VTIMEZONE
END:VCALENDAR