BEGIN:VCALENDAR
VERSION:2.0
PRODID:-//wp-events-plugin.com//7.2.3.1//EN
TZID:Europe/Berlin
X-WR-TIMEZONE:Europe/Berlin
BEGIN:VEVENT
UID:1-15696@narcotics-anonymous.de
DTSTART;TZID=Europe/Berlin:20260430T193000
DTEND;TZID=Europe/Berlin:20260430T210000
DTSTAMP:20260323T112713Z
URL:https://narcotics-anonymous.de/events/hotline-meeting/
SUMMARY:Hotline-Meeting
DESCRIPTION:Meeting des Hotline-Teams zur Besprechung organisatorischer The
 men und zum Erfahrungsaustausch.
ATTACH;FMTTYPE=image/jpeg:https://narcotics-anonymous.de/wp-content/upload
 s/2020/07/NA-hotline-logo.jpg
CATEGORIES:Service
LOCATION:Video-Veranstaltung\, RSK\, Zoom-Raum\, Deutschland
X-APPLE-STRUCTURED-LOCATION;VALUE=URI;X-ADDRESS=RSK\, Zoom-Raum\, Deutschla
 nd;X-APPLE-RADIUS=100;X-TITLE=Video-Veranstaltung:geo:0,0
END:VEVENT
BEGIN:VTIMEZONE
TZID:Europe/Berlin
X-LIC-LOCATION:Europe/Berlin
BEGIN:DAYLIGHT
DTSTART:20260329T030000
TZOFFSETFROM:+0100
TZOFFSETTO:+0200
TZNAME:CEST
END:DAYLIGHT
END:VTIMEZONE
END:VCALENDAR