BEGIN:VCALENDAR
VERSION:2.0
PRODID:-//wp-events-plugin.com//7.2.3.1//EN
TZID:Europe/Berlin
X-WR-TIMEZONE:Europe/Berlin
BEGIN:VEVENT
UID:1-11040@narcotics-anonymous.de
DTSTART;TZID=Europe/Berlin:20220625T080000
DTEND;TZID=Europe/Berlin:20220625T190000
DTSTAMP:20220620T190332Z
URL:https://narcotics-anonymous.de/events/gsk-suedwest/
SUMMARY:GSK - Südwest
DESCRIPTION:Meeting-ID: 826 2830 8626\nKenncode: 122412\nTelefon-Einwahl: +
 4969 3807 9883\n\n[av_button label='Download Tagesordnung' icon_select='no
 ' icon='ue800' font='entypo-fontello' link='manually\,https://narcotics-an
 onymous.de/download/118-gsk-suedwest-tagesordnung/' link_target='_blank' s
 ize='medium' position='left' label_display='' title_attr='' color_options=
 '' color='theme-color' custom_bg='#444444' custom_font='#ffffff' btn_color
 _bg='theme-color' btn_custom_grad_direction='vertical' btn_custom_grad_1='
 #000000' btn_custom_grad_2='#ffffff' btn_custom_grad_3='' btn_custom_grad_
 opacity='0.7' btn_custom_bg='#444444' btn_color_bg_hover='theme-color-high
 light' btn_custom_bg_hover='#444444' btn_color_font='theme-color' btn_cust
 om_font='#ffffff' btn_color_font_hover='white' btn_custom_font_hover='#fff
 fff' border='' border_width='' border_width_sync='true' border_color='' bo
 rder_radius='' border_radius_sync='true' box_shadow='' box_shadow_style='0
 px\,0px\,0px\,0px' box_shadow_color='' animation='' animation_duration='' 
 animation_custom_bg_color='' animation_z_index_curtain='100' hover_opacity
 ='' sonar_effect_effect='' sonar_effect_color='' sonar_effect_duration='1'
  sonar_effect_scale='' sonar_effect_opac='0.5' css_position='' css_positio
 n_location='\,\,\,' css_position_z_index='' av-medium-css_position='' av-m
 edium-css_position_location='\,\,\,' av-medium-css_position_z_index='' av-
 small-css_position='' av-small-css_position_location='\,\,\,' av-small-css
 _position_z_index='' av-mini-css_position='' av-mini-css_position_location
 ='\,\,\,' av-mini-css_position_z_index='' id='' custom_class='' template_c
 lass='' av_uid='' sc_version='1.0' admin_preview_bg='']\n\n[av_button labe
 l='Zoom-Raum betreten' icon_select='no' icon='ue800' font='entypo-fontello
 ' link='manually\,https://us06web.zoom.us/j/82628308626?pwd=NkJBdkZlTTl2dn
 FJMHlPYk02ektvdz09' link_target='_blank' size='large' position='left' labe
 l_display='' title_attr='' color_options='' color='theme-color' custom_bg=
 '#444444' custom_font='#ffffff' btn_color_bg='theme-color' btn_custom_grad
 _direction='vertical' btn_custom_grad_1='#000000' btn_custom_grad_2='#ffff
 ff' btn_custom_grad_3='' btn_custom_grad_opacity='0.7' btn_custom_bg='#444
 444' btn_color_bg_hover='theme-color-highlight' btn_custom_bg_hover='#4444
 44' btn_color_font='theme-color' btn_custom_font='#ffffff' btn_color_font_
 hover='white' btn_custom_font_hover='#ffffff' border='' border_width='' bo
 rder_width_sync='true' border_color='' border_radius='' border_radius_sync
 ='true' box_shadow='' box_shadow_style='0px\,0px\,0px\,0px' box_shadow_col
 or='' animation='' animation_duration='' animation_custom_bg_color='' anim
 ation_z_index_curtain='100' hover_opacity='' sonar_effect_effect='' sonar_
 effect_color='' sonar_effect_duration='1' sonar_effect_scale='' sonar_effe
 ct_opac='0.5' css_position='' css_position_location='\,\,\,' css_position_
 z_index='' av-medium-css_position='' av-medium-css_position_location='\,\,
 \,' av-medium-css_position_z_index='' av-small-css_position='' av-small-cs
 s_position_location='\,\,\,' av-small-css_position_z_index='' av-mini-css_
 position='' av-mini-css_position_location='\,\,\,' av-mini-css_position_z_
 index='' id='' custom_class='' template_class='' av_uid='' sc_version='1.0
 ' admin_preview_bg='']\n\n&nbsp\;\n\n&nbsp\;
CATEGORIES:Service
END:VEVENT
BEGIN:VTIMEZONE
TZID:Europe/Berlin
X-LIC-LOCATION:Europe/Berlin
BEGIN:DAYLIGHT
DTSTART:20220327T030000
TZOFFSETFROM:+0100
TZOFFSETTO:+0200
TZNAME:CEST
END:DAYLIGHT
END:VTIMEZONE
END:VCALENDAR