BEGIN:VCALENDAR
VERSION:2.0
PRODID:-//wp-events-plugin.com//7.2.3.1//EN
TZID:Europe/Berlin
X-WR-TIMEZONE:Europe/Berlin
BEGIN:VEVENT
UID:1-11009@narcotics-anonymous.de
DTSTART;TZID=Europe/Berlin:20220519T120000
DTEND;TZID=Europe/Berlin:20220519T130000
DTSTAMP:20220511T104731Z
URL:https://narcotics-anonymous.de/events/geschlossene-oea-veranstaltung/
SUMMARY:Geschlossene ÖA Veranstaltung
DESCRIPTION:NA stellt sich interessierten Mitarbeitern der Firma Jenoptik v
 or.\n\nDies ist keine öffentliche Veranstaltung. Falls NA Mitglieder teil
 nehmen möchten\, bitten wir\, dies ausschließlich als stiller Zuhörer z
 u tun und die Präsentation den betrauten Dienern und Dienerinnen zu über
 lassen.
CATEGORIES:Service
LOCATION:Video-Veranstaltung\, RSK\, Zoom-Raum\, Deutschland
X-APPLE-STRUCTURED-LOCATION;VALUE=URI;X-ADDRESS=RSK\, Zoom-Raum\, Deutschla
 nd;X-APPLE-RADIUS=100;X-TITLE=Video-Veranstaltung:geo:0,0
END:VEVENT
BEGIN:VTIMEZONE
TZID:Europe/Berlin
X-LIC-LOCATION:Europe/Berlin
BEGIN:DAYLIGHT
DTSTART:20220327T030000
TZOFFSETFROM:+0100
TZOFFSETTO:+0200
TZNAME:CEST
END:DAYLIGHT
END:VTIMEZONE
END:VCALENDAR