BEGIN:VCALENDAR
VERSION:2.0
PRODID:-//wp-events-plugin.com//7.2.3.1//EN
TZID:Europe/Berlin
X-WR-TIMEZONE:Europe/Berlin
BEGIN:VEVENT
UID:1-12295@narcotics-anonymous.de
DTSTART;TZID=Europe/Berlin:20230618T200000
DTEND;TZID=Europe/Berlin:20230618T210000
DTSTAMP:20230603T225659Z
URL:https://narcotics-anonymous.de/events/gd-talk-3/
SUMMARY:GD-Talk
DESCRIPTION:[av_button label='Zoom-Raum betreten' icon_select='no' icon='ue
 800' font='entypo-fontello' link='manually\,https://us06web.zoom.us/j/8193
 1824492?pwd=OE5zeTdBUUxtM3F3eHZ1OXE2RDBYUT09' link_target='_blank' size='m
 edium' position='left' label_display='' title_attr='' color_options='' col
 or='theme-color' custom_bg='#444444' custom_font='#ffffff' btn_color_bg='t
 heme-color' btn_custom_grad_direction='vertical' btn_custom_grad_1='#00000
 0' btn_custom_grad_2='#ffffff' btn_custom_grad_3='' btn_custom_grad_opacit
 y='0.7' btn_custom_bg='#444444' btn_color_bg_hover='theme-color-highlight'
  btn_custom_bg_hover='#444444' btn_color_font='theme-color' btn_custom_fon
 t='#ffffff' btn_color_font_hover='white' btn_custom_font_hover='#ffffff' b
 order='' border_width='' border_width_sync='true' border_color='' border_r
 adius='' border_radius_sync='true' box_shadow='' box_shadow_style='0px\,0p
 x\,0px\,0px' box_shadow_color='' hover_opacity='' sonar_effect_effect='' s
 onar_effect_color='' sonar_effect_duration='1' sonar_effect_scale='' sonar
 _effect_opac='0.5' id='' custom_class='' template_class='' av_uid='' sc_ve
 rsion='1.0' admin_preview_bg='']\n\nMeeting-ID: 819 3182 4492\nKenwort: 12
 \n\nTelefon-Einwahl: 069 505 00 952
CATEGORIES:Service
END:VEVENT
BEGIN:VTIMEZONE
TZID:Europe/Berlin
X-LIC-LOCATION:Europe/Berlin
BEGIN:DAYLIGHT
DTSTART:20230326T030000
TZOFFSETFROM:+0100
TZOFFSETTO:+0200
TZNAME:CEST
END:DAYLIGHT
END:VTIMEZONE
END:VCALENDAR