BEGIN:VCALENDAR
VERSION:2.0
PRODID:-//wp-events-plugin.com//7.2.3.1//EN
TZID:Europe/Berlin
X-WR-TIMEZONE:Europe/Berlin
BEGIN:VEVENT
UID:1-10702@narcotics-anonymous.de
DTSTART;TZID=Europe/Berlin:20220129T000000
DTEND;TZID=Europe/Berlin:20220130T000000
DTSTAMP:20220106T210217Z
URL:https://narcotics-anonymous.de/events/franz-frauen-convention-2022/
SUMMARY:Franz. Frauen Convention 2022
DESCRIPTION:\n\n\n\n\n\nInscription via HelloAsso Site NA France\, onglet "
 Événeme"\n\n\n\n\n\nAGECA : 177 rue de Charonne\, 75011 PARIS\n\n\n\n\
 n\n\n\n\n
ATTACH;FMTTYPE=image/jpeg:https://narcotics-anonymous.de/wp-content/upload
 s/2022/01/FrauenConventionFr_2022.jpg
CATEGORIES:Convention/Party,Top-Event
LOCATION:Paris Rue Charonne\, 177 rue de Charonne\, Paris\, Île-de-France\
 , 75011\, Frankreich
GEO:48.856343;2.392284
X-APPLE-STRUCTURED-LOCATION;VALUE=URI;X-ADDRESS=177 rue de Charonne\, Paris
 \, Île-de-France\, 75011\, Frankreich;X-APPLE-RADIUS=100;X-TITLE=Paris Ru
 e Charonne:geo:48.856343,2.392284
END:VEVENT
BEGIN:VTIMEZONE
TZID:Europe/Berlin
X-LIC-LOCATION:Europe/Berlin
BEGIN:STANDARD
DTSTART:20211031T020000
TZOFFSETFROM:+0200
TZOFFSETTO:+0100
TZNAME:CET
END:STANDARD
END:VTIMEZONE
END:VCALENDAR