BEGIN:VCALENDAR
VERSION:2.0
PRODID:-//wp-events-plugin.com//7.2.3.1//EN
TZID:Europe/Berlin
X-WR-TIMEZONE:Europe/Berlin
BEGIN:VEVENT
UID:1-10216@narcotics-anonymous.de
DTSTART;TZID=Europe/Berlin:20211206T203000
DTEND;TZID=Europe/Berlin:20211206T213000
DTSTAMP:20211205T121546Z
URL:https://narcotics-anonymous.de/events/einfuehrung-onlinered-zu-wp-back
 end/
SUMMARY:Einführung OnlineRed zu WP Backend
DESCRIPTION:Ron + Heiko\n\n&nbsp\;\n\nhttps://zoom.us/j/8933771264?pwd=eHkr
 YzNtdnFmMzA3bkRaQmFGY1pCUT09\nMeeting-ID: 8933771264\nPW: 847695
CATEGORIES:Service
LOCATION:https://zoom.us/j/8933771264?pwd=eHkrYzNtdnFmMzA3bkRaQmFGY1pCUT09
END:VEVENT
BEGIN:VTIMEZONE
TZID:Europe/Berlin
X-LIC-LOCATION:Europe/Berlin
BEGIN:STANDARD
DTSTART:20211031T020000
TZOFFSETFROM:+0200
TZOFFSETTO:+0100
TZNAME:CET
END:STANDARD
END:VTIMEZONE
END:VCALENDAR