BEGIN:VCALENDAR
VERSION:2.0
PRODID:-//wp-events-plugin.com//7.2.3.1//EN
TZID:Europe/Berlin
X-WR-TIMEZONE:Europe/Berlin
BEGIN:VEVENT
UID:1-11104@narcotics-anonymous.de
DTSTART;TZID=Europe/Berlin:20220731T190000
DTEND;TZID=Europe/Berlin:20220731T190000
DTSTAMP:20220720T120035Z
URL:https://narcotics-anonymous.de/events/edm-felowship-developement/
SUMMARY:EDM-Workshop Felowship Developement
DESCRIPTION:\nHello everybody\,\nThis is to invite you to attend the online
  workshop that the EDM FD committee will be presenting on Sunday the 31st 
 of July at 19:00 CET in cooperation with FD members from the UK\, Latvia a
 nd the Netherlands.\nPlease feel free to circulate it in the groups since 
 everyone who is interested in FD service (service in general is welcomed t
 o attend.\nShould you need translation to and from your language\, please 
 let us know in advance so we can prepare for it…\nLooking forward to see
  you.\nIn service\nYour FD team.\n--
ATTACH;FMTTYPE=image/jpeg:https://narcotics-anonymous.de/wp-content/upload
 s/2022/07/EDM-Fellowshipdevelopement.jpg
CATEGORIES:Service,Workshop
END:VEVENT
BEGIN:VTIMEZONE
TZID:Europe/Berlin
X-LIC-LOCATION:Europe/Berlin
BEGIN:DAYLIGHT
DTSTART:20220327T030000
TZOFFSETFROM:+0100
TZOFFSETTO:+0200
TZNAME:CEST
END:DAYLIGHT
END:VTIMEZONE
END:VCALENDAR