BEGIN:VCALENDAR
VERSION:2.0
PRODID:-//wp-events-plugin.com//7.2.3.1//EN
TZID:Europe/Berlin
X-WR-TIMEZONE:Europe/Berlin
BEGIN:VEVENT
UID:15-11238@narcotics-anonymous.de
DTSTART;TZID=Europe/Berlin:20220811T000000
DTEND;TZID=Europe/Berlin:20220813T000000
DTSTAMP:20220825T195359Z
URL:https://narcotics-anonymous.de/sued/events/eccna-38-budapest/
SUMMARY:ECCNA 38 Budapest
DESCRIPTION:25
ATTACH;FMTTYPE=image/jpeg:https://narcotics-anonymous.de/wp-content/upload
 s/sites/15/2022/08/eccna38_budapest_flyer_front.png
CATEGORIES:Top-Event,Convention/Party
END:VEVENT
BEGIN:VTIMEZONE
TZID:Europe/Berlin
X-LIC-LOCATION:Europe/Berlin
BEGIN:DAYLIGHT
DTSTART:20220327T030000
TZOFFSETFROM:+0100
TZOFFSETTO:+0200
TZNAME:CEST
END:DAYLIGHT
END:VTIMEZONE
END:VCALENDAR