BEGIN:VCALENDAR
VERSION:2.0
PRODID:-//wp-events-plugin.com//7.2.3.1//EN
TZID:Europe/Berlin
X-WR-TIMEZONE:Europe/Berlin
BEGIN:VEVENT
UID:1-9807@narcotics-anonymous.de
DTSTART;TZID=Europe/Berlin;VALUE=DATE:20220909
DTEND;TZID=Europe/Berlin;VALUE=DATE:20220912
DTSTAMP:20211121T142610Z
URL:https://narcotics-anonymous.de/events/eccna-37-kairo/
SUMMARY:ECCNA 37 Kairo
DESCRIPTION:Der Veranstaltungsort wird bald auf dem Flyer auf eccna.eu beka
 nnt gegeben.\n\nFalls du bereits ein Hotel buchen möchtest\, die ECCNA wi
 rd in der Nähe des Tahrir Platzes stattfinden. Das Komitee ist dabei beso
 ndere Konditionen auszuhandeln und wird die Informationen so bald wie mög
 lich bekannt geben. Also schau immer mal wieder bei eccna.eu vorbei.
ATTACH;FMTTYPE=image/jpeg:https://narcotics-anonymous.de/wp-content/upload
 s/2021/10/ECCNA_2022_crop.jpg
CATEGORIES:Convention/Party,Top-Event
END:VEVENT
BEGIN:VTIMEZONE
TZID:Europe/Berlin
X-LIC-LOCATION:Europe/Berlin
BEGIN:DAYLIGHT
DTSTART:20220327T030000
TZOFFSETFROM:+0100
TZOFFSETTO:+0200
TZNAME:CEST
END:DAYLIGHT
END:VTIMEZONE
END:VCALENDAR