BEGIN:VCALENDAR
VERSION:2.0
PRODID:-//wp-events-plugin.com//7.2.3.1//EN
TZID:Europe/Berlin
X-WR-TIMEZONE:Europe/Berlin
BEGIN:VEVENT
UID:1-14413@narcotics-anonymous.de
DTSTART;TZID=Europe/Berlin;VALUE=DATE:20250516
DTEND;TZID=Europe/Berlin;VALUE=DATE:20250519
DTSTAMP:20250310T212328Z
URL:https://narcotics-anonymous.de/events/czecho-slovak-convention-bratisl
 ava/
SUMMARY:Czecho-Slovak Convention Bratislava
DESCRIPTION:\n\nIn Kürze mehr Infos hier
ATTACH;FMTTYPE=image/jpeg:https://narcotics-anonymous.de/wp-content/upload
 s/2025/01/Bratislava_Convention_2025_crop.jpg
CATEGORIES:Convention/Party,Top-Event
LOCATION:St. Elisabethe\, Námestie 1. mája\, Bratislava\, 81106\, Slowake
 i
X-APPLE-STRUCTURED-LOCATION;VALUE=URI;X-ADDRESS=Námestie 1. mája\, Bratis
 lava\, 81106\, Slowakei;X-APPLE-RADIUS=100;X-TITLE=St. Elisabethe:geo:0,0
END:VEVENT
BEGIN:VTIMEZONE
TZID:Europe/Berlin
X-LIC-LOCATION:Europe/Berlin
BEGIN:DAYLIGHT
DTSTART:20250330T030000
TZOFFSETFROM:+0100
TZOFFSETTO:+0200
TZNAME:CEST
END:DAYLIGHT
END:VTIMEZONE
END:VCALENDAR