BEGIN:VCALENDAR
VERSION:2.0
PRODID:-//wp-events-plugin.com//7.2.3.1//EN
TZID:Europe/Berlin
X-WR-TIMEZONE:Europe/Berlin
BEGIN:VEVENT
UID:1-11103@narcotics-anonymous.de
DTSTART;TZID=Europe/Berlin:20220805T000000
DTEND;TZID=Europe/Berlin:20220807T000000
DTSTAMP:20220730T203440Z
URL:https://narcotics-anonymous.de/events/convention-moegendorf-i-d-oberpf
 alz/
SUMMARY:Convention\, Mögendorf i.d. Oberpfalz
DESCRIPTION:\n\n
ATTACH;FMTTYPE=image/jpeg:https://narcotics-anonymous.de/wp-content/upload
 s/2022/07/NA-Convention_Pfalz_crop.jpg
CATEGORIES:Convention/Party,Top-Event
LOCATION:Oberpfalz - Mögendorf 11\, Bruck\, Mögendorf 11\, Mögendorf\, B
 ayern\, 92436\, Landkreis Schwandorf\, Deutschland
GEO:49.259599;12.296225
X-APPLE-STRUCTURED-LOCATION;VALUE=URI;X-ADDRESS=Mögendorf 11\, Mögendorf\
 , Bayern\, 92436\, Landkreis Schwandorf\, Deutschland;X-APPLE-RADIUS=100;X
 -TITLE=Oberpfalz - Mögendorf 11\, Bruck:geo:49.259599,12.296225
END:VEVENT
BEGIN:VTIMEZONE
TZID:Europe/Berlin
X-LIC-LOCATION:Europe/Berlin
BEGIN:DAYLIGHT
DTSTART:20220327T030000
TZOFFSETFROM:+0100
TZOFFSETTO:+0200
TZNAME:CEST
END:DAYLIGHT
END:VTIMEZONE
END:VCALENDAR