BEGIN:VCALENDAR
VERSION:2.0
PRODID:-//wp-events-plugin.com//7.2.3.1//EN
TZID:Europe/Berlin
X-WR-TIMEZONE:Europe/Berlin
BEGIN:VEVENT
UID:1-10717@narcotics-anonymous.de
DTSTART;TZID=Europe/Berlin:20220209T190000
DTEND;TZID=Europe/Berlin:20220209T210000
DTSTAMP:20220124T190828Z
URL:https://narcotics-anonymous.de/events/car-workshop/
SUMMARY:CAR-Workshop
DESCRIPTION:Zoom-Link:\nhttps://zoom.us/j/8933771264?pwd=eHkrYzNtdnFmMzA3bk
 RaQmFGY1pCUT09\nMeeting-ID: 8933771264\nPW: 847695\n\nEinwahlnummer: \n+4
 9 69505 009 52\n\nRSK\nZoom-Raum\nDeutschland
CATEGORIES:Service
END:VEVENT
BEGIN:VTIMEZONE
TZID:Europe/Berlin
X-LIC-LOCATION:Europe/Berlin
BEGIN:STANDARD
DTSTART:20211031T020000
TZOFFSETFROM:+0200
TZOFFSETTO:+0100
TZNAME:CET
END:STANDARD
END:VTIMEZONE
END:VCALENDAR