BEGIN:VCALENDAR
VERSION:2.0
PRODID:-//wp-events-plugin.com//7.2.3.1//EN
TZID:Europe/Berlin
X-WR-TIMEZONE:Europe/Berlin
BEGIN:VEVENT
UID:1-11570@narcotics-anonymous.de
DTSTART;TZID=Europe/Berlin:20230115T100000
DTEND;TZID=Europe/Berlin:20230115T140000
DTSTAMP:20230113T135619Z
URL:https://narcotics-anonymous.de/events/car-workshop-3/
SUMMARY:CAR - Workshop
DESCRIPTION:Conference Agenda Report Workshop\n\n[av_button label='Zoom-Rau
 m betreten' icon_select='no' icon='ue800' font='entypo-fontello' link='man
 ually https://us06web.zoom.us/j/82628308626?pwd=NkJBdkZlTTl2dnFJMHlPYk02ek
 tvdz09' link_target='_blank' size='medium' position='left' label_display='
 ' title_attr='' color_options='' color='theme-color' custom_bg='#444444' c
 ustom_font='#ffffff' btn_color_bg='theme-color' btn_custom_grad_direction=
 'vertical' btn_custom_grad_1='#000000' btn_custom_grad_2='#ffffff' btn_cus
 tom_grad_3='' btn_custom_grad_opacity='0.7' btn_custom_bg='#444444' btn_co
 lor_bg_hover='theme-color-highlight' btn_custom_bg_hover='#444444' btn_col
 or_font='theme-color' btn_custom_font='#ffffff' btn_color_font_hover='whit
 e' btn_custom_font_hover='#ffffff' border='' border_width='' border_width_
 sync='true' border_color='' border_radius='' border_radius_sync='true' box
 _shadow='' box_shadow_style='0px\,0px\,0px\,0px' box_shadow_color='' hover
 _opacity='' sonar_effect_effect='' sonar_effect_color='' sonar_effect_dura
 tion='1' sonar_effect_scale='' sonar_effect_opac='0.5' id='' custom_class=
 '' template_class='' av_uid='' sc_version='1.0' admin_preview_bg='']\n\nMe
 eting-ID: 826 2830 8626\nKenwort: 122412\n\nTelefon-Einwahl: 069 505 00 95
 2
CATEGORIES:Service,Workshop
END:VEVENT
BEGIN:VTIMEZONE
TZID:Europe/Berlin
X-LIC-LOCATION:Europe/Berlin
BEGIN:STANDARD
DTSTART:20221030T020000
TZOFFSETFROM:+0200
TZOFFSETTO:+0100
TZNAME:CET
END:STANDARD
END:VTIMEZONE
END:VCALENDAR