BEGIN:VCALENDAR
VERSION:2.0
PRODID:-//wp-events-plugin.com//7.2.3.1//EN
TZID:Europe/Berlin
X-WR-TIMEZONE:Europe/Berlin
BEGIN:VEVENT
UID:1-10800@narcotics-anonymous.de
DTSTART;TZID=Europe/Berlin:20220326T140000
DTEND;TZID=Europe/Berlin:20220326T170000
DTSTAMP:20220326T124731Z
URL:https://narcotics-anonymous.de/events/car-conference-agenda-report-wor
 kshop/
SUMMARY:CAR (Conference Agenda Report) Workshop
DESCRIPTION:Hallo alle CAR Interessierten\,\n\nmir ist leider auf dem Flyer
  ein Zahlendreher bei dem Zoomraum passiert. Ich schicke euch nochmal den 
 Link mit den  richtigen Einwahldaten.\n\nLiebe Grüße  Gerhard\n\n&nbsp
 \;\n\nZoom-Meeting beitreten\nhttps://us02web.zoom.us/j/6347243380?pwd=d0l
 qWnZPWHNxU2xKeWVPK3BXK2RIUT09\n\nMeeting-ID: 634 724 3380\nKenncode: 12121
 2\nSchnelleinwahl mobil
CATEGORIES:Service,Top-Event
END:VEVENT
BEGIN:VTIMEZONE
TZID:Europe/Berlin
X-LIC-LOCATION:Europe/Berlin
BEGIN:STANDARD
DTSTART:20211031T020000
TZOFFSETFROM:+0200
TZOFFSETTO:+0100
TZNAME:CET
END:STANDARD
END:VTIMEZONE
END:VCALENDAR