BEGIN:VCALENDAR
VERSION:2.0
PRODID:-//wp-events-plugin.com//7.2.3.1//EN
TZID:Europe/Berlin
X-WR-TIMEZONE:Europe/Berlin
BEGIN:VEVENT
UID:1-11247@narcotics-anonymous.de
DTSTART;TZID=Europe/Berlin:20221028T150000
DTEND;TZID=Europe/Berlin:20221030T000000
DTSTAMP:20220918T203246Z
URL:https://narcotics-anonymous.de/events/bangladesch-convention/
SUMMARY:Bangladesch Convention
DESCRIPTION: \n\nCox's Bazar - Der längste Sandstrand der Welt!
ATTACH;FMTTYPE=image/jpeg:https://narcotics-anonymous.de/wp-content/upload
 s/2022/09/2022_Banladesh_crop.jpg
CATEGORIES:Convention/Party,Top-Event
LOCATION:Sea Princess Hotel Bangladesh\, The Sea Princess Hotel\, cox's Baz
 aar\, 4700\, Cox's Bazar\, Bangladesch
GEO:21.425709;91.973557
X-APPLE-STRUCTURED-LOCATION;VALUE=URI;X-ADDRESS=The Sea Princess Hotel\, co
 x's Bazaar\, 4700\, Cox's Bazar\, Bangladesch;X-APPLE-RADIUS=100;X-TITLE=S
 ea Princess Hotel Bangladesh:geo:21.425709,91.973557
END:VEVENT
BEGIN:VTIMEZONE
TZID:Europe/Berlin
X-LIC-LOCATION:Europe/Berlin
BEGIN:DAYLIGHT
DTSTART:20220327T030000
TZOFFSETFROM:+0100
TZOFFSETTO:+0200
TZNAME:CEST
END:DAYLIGHT
END:VTIMEZONE
END:VCALENDAR