BEGIN:VCALENDAR
VERSION:2.0
PRODID:-//wp-events-plugin.com//7.2.3.1//EN
TZID:Europe/Berlin
X-WR-TIMEZONE:Europe/Berlin
BEGIN:VEVENT
UID:1-10078@narcotics-anonymous.de
DTSTART;TZID=Europe/Berlin:20230317T000000
DTEND;TZID=Europe/Berlin:20230319T000000
DTSTAMP:20220918T191729Z
URL:https://narcotics-anonymous.de/events/bangkok-thailand-2023/
SUMMARY:Thai Convention - A Gift of Live
DESCRIPTION:\n\nTRCNA XIII\nA Gift of Life\n\nRembrandt Hotel\n19 Sukhumvit
  Soi 18\,\nKhwaeng Khlong Toei\, Khlong Toei\nBangkok 10110\nThailand\nna-
 thailand.org
ATTACH;FMTTYPE=image/jpeg:https://narcotics-anonymous.de/wp-content/upload
 s/2021/11/thai-convention-2022_crop.jpg
CATEGORIES:Convention/Party,Top-Event
LOCATION:Rembrandt Hotel Bangkok\, Rembrandt Hotel\, Bangkok\, Bangkok\, 10
 110\, Thailand
GEO:13.732311;100.563268
X-APPLE-STRUCTURED-LOCATION;VALUE=URI;X-ADDRESS=Rembrandt Hotel\, Bangkok\,
  Bangkok\, 10110\, Thailand;X-APPLE-RADIUS=100;X-TITLE=Rembrandt Hotel Ban
 gkok:geo:13.732311,100.563268
END:VEVENT
BEGIN:VTIMEZONE
TZID:Europe/Berlin
X-LIC-LOCATION:Europe/Berlin
BEGIN:STANDARD
DTSTART:20221030T020000
TZOFFSETFROM:+0200
TZOFFSETTO:+0100
TZNAME:CET
END:STANDARD
END:VTIMEZONE
END:VCALENDAR