BEGIN:VCALENDAR
VERSION:2.0
PRODID:-//wp-events-plugin.com//7.2.3.1//EN
TZID:Europe/Berlin
X-WR-TIMEZONE:Europe/Berlin
BEGIN:VEVENT
UID:1-12301@narcotics-anonymous.de
DTSTART;TZID=Europe/Berlin;VALUE=DATE:20230714
DTEND;TZID=Europe/Berlin;VALUE=DATE:20230717
DTSTAMP:20230607T094820Z
URL:https://narcotics-anonymous.de/events/baltic-amber-convention-litauen/
SUMMARY:Baltic Amber Convention Litauen
DESCRIPTION:\n\nWeitere Infos
ATTACH;FMTTYPE=image/jpeg:https://narcotics-anonymous.de/wp-content/upload
 s/2023/06/AmberBaltic_crop.jpg
CATEGORIES:Convention/Party,Top-Event
LOCATION:Hotel Vyturys Litauen\, S. Dariaus ir S. Girėno g. 20\, Polangen\
 , Bezirk Memel\, 00195\, Litauen
GEO:55.907734;21.068679
X-APPLE-STRUCTURED-LOCATION;VALUE=URI;X-ADDRESS=S. Dariaus ir S. Girėno g.
  20\, Polangen\, Bezirk Memel\, 00195\, Litauen;X-APPLE-RADIUS=100;X-TITLE
 =Hotel Vyturys Litauen:geo:55.907734,21.068679
END:VEVENT
BEGIN:VTIMEZONE
TZID:Europe/Berlin
X-LIC-LOCATION:Europe/Berlin
BEGIN:DAYLIGHT
DTSTART:20230326T030000
TZOFFSETFROM:+0100
TZOFFSETTO:+0200
TZNAME:CEST
END:DAYLIGHT
END:VTIMEZONE
END:VCALENDAR