BEGIN:VCALENDAR
VERSION:2.0
PRODID:-//wp-events-plugin.com//7.2.3.1//EN
TZID:Europe/Berlin
X-WR-TIMEZONE:Europe/Berlin
BEGIN:VEVENT
UID:1-11563@narcotics-anonymous.de
DTSTART;TZID=Europe/Berlin:20221211T193000
DTEND;TZID=Europe/Berlin:20221211T203000
DTSTAMP:20221204T180158Z
URL:https://narcotics-anonymous.de/events/ausserordenliche-rsk-budget-bewe
 rbung-wcna/
SUMMARY:Außerordenliche RSK Budget Bewerbung WCNA
DESCRIPTION:Zoom-Meeting beitreten\nZoom-Meeting beitreten\nMeeting-ID: 341
  635 9853\nKenncode: 343434
CATEGORIES:Service
END:VEVENT
BEGIN:VTIMEZONE
TZID:Europe/Berlin
X-LIC-LOCATION:Europe/Berlin
BEGIN:STANDARD
DTSTART:20221030T020000
TZOFFSETFROM:+0200
TZOFFSETTO:+0100
TZNAME:CET
END:STANDARD
END:VTIMEZONE
END:VCALENDAR