BEGIN:VCALENDAR
VERSION:2.0
PRODID:-//wp-events-plugin.com//7.2.3.1//EN
TZID:Europe/Berlin
X-WR-TIMEZONE:Europe/Berlin
BEGIN:VEVENT
UID:1-11250@narcotics-anonymous.de
DTSTART;TZID=Europe/Berlin:20230303T000000
DTEND;TZID=Europe/Berlin:20230305T000000
DTSTAMP:20220918T205115Z
URL:https://narcotics-anonymous.de/events/asia-pacific-forum-convention-20
 23/
SUMMARY:Asia Pacific Forum Convention 2023
DESCRIPTION:\n\nTermin vormerken. Infos für Unterkunft usw. folgt.
ATTACH;FMTTYPE=image/jpeg:https://narcotics-anonymous.de/wp-content/upload
 s/2022/09/APFCNA-3_Save-the-Date_crop.jpg
CATEGORIES:Convention/Party,Top-Event
LOCATION:Gorkha Rangamancha Bhwan\, Gorkha Rangamancha Bhwan\, Chauk Bazaar
 \, West Bengal\, 734101\, Indien
GEO:27.0333;88.2667
X-APPLE-STRUCTURED-LOCATION;VALUE=URI;X-ADDRESS=Gorkha Rangamancha Bhwan\, 
 Chauk Bazaar\, West Bengal\, 734101\, Indien;X-APPLE-RADIUS=100;X-TITLE=Go
 rkha Rangamancha Bhwan:geo:27.0333,88.2667
END:VEVENT
BEGIN:VTIMEZONE
TZID:Europe/Berlin
X-LIC-LOCATION:Europe/Berlin
BEGIN:STANDARD
DTSTART:20221030T020000
TZOFFSETFROM:+0200
TZOFFSETTO:+0100
TZNAME:CET
END:STANDARD
END:VTIMEZONE
END:VCALENDAR