BEGIN:VCALENDAR
VERSION:2.0
PRODID:-//wp-events-plugin.com//7.2.3.1//EN
TZID:Europe/Berlin
X-WR-TIMEZONE:Europe/Berlin
BEGIN:VEVENT
UID:1-12314@narcotics-anonymous.de
DTSTART;TZID=Europe/Berlin:20230804T190000
DTEND;TZID=Europe/Berlin:20230804T210000
DTSTAMP:20230703T093919Z
URL:https://narcotics-anonymous.de/events/ag-strukturpapier-1/
SUMMARY:AG Strukturpapier
DESCRIPTION:
CATEGORIES:Service
LOCATION:https://zoom.us/j/8933771264?pwd=eHkrYzNtdnFmMzA3bkRaQmFGY1pCUT09
END:VEVENT
BEGIN:VTIMEZONE
TZID:Europe/Berlin
X-LIC-LOCATION:Europe/Berlin
BEGIN:DAYLIGHT
DTSTART:20230326T030000
TZOFFSETFROM:+0100
TZOFFSETTO:+0200
TZNAME:CEST
END:DAYLIGHT
END:VTIMEZONE
END:VCALENDAR