BEGIN:VCALENDAR
VERSION:2.0
PRODID:-//wp-events-plugin.com//7.2.3.1//EN
TZID:Europe/Berlin
X-WR-TIMEZONE:Europe/Berlin
BEGIN:VEVENT
UID:1-12143@narcotics-anonymous.de
DTSTART;TZID=Europe/Berlin:20231008T110000
DTEND;TZID=Europe/Berlin:20231008T160000
DTSTAMP:20230921T095517Z
URL:https://narcotics-anonymous.de/events/ag-online-gebiet-2023-10-08/
SUMMARY:AG Online-Gebiet
DESCRIPTION:So wie Face-To-Face-Meetings im Rahmen der NA-Servicestruktur m
 eist einem der derzeit 7 Gebiete im deutschsprachigen Raum angeschlossen s
 ind\,\ngibt es seit einiger Zeit die Bestrebung\, auch für die deutschspr
 achigen Online-Meetings ein ortsunabhängiges Gebiet zu gründen.\n\nZum a
 ktuellen Datum soll als „konstituierende Sitzung“ nun die eigentliche 
 Gründung des Online-Gebiets stattfinden.\nAlle Gruppenrepräsentanten und
  -repräsentantinnen der Online-Gruppen und natürlich auch alle anderen i
 nteressierten NA-Mitglieder sind herzlich eingeladen\, an diesem Treffen t
 eilzunehmen!
ATTACH;FMTTYPE=image/jpeg:https://narcotics-anonymous.de/wp-content/upload
 s/2023/02/Flyer-Gruendungsveranstaltung-08.10.2023.jpg
CATEGORIES:Service,Top-Event
LOCATION:https://zoom.us/j/8933771264?pwd=eHkrYzNtdnFmMzA3bkRaQmFGY1pCUT09
END:VEVENT
BEGIN:VTIMEZONE
TZID:Europe/Berlin
X-LIC-LOCATION:Europe/Berlin
BEGIN:DAYLIGHT
DTSTART:20230326T030000
TZOFFSETFROM:+0100
TZOFFSETTO:+0200
TZNAME:CEST
END:DAYLIGHT
END:VTIMEZONE
END:VCALENDAR