BEGIN:VCALENDAR
VERSION:2.0
PRODID:-//wp-events-plugin.com//7.2.3.1//EN
TZID:Europe/Berlin
X-WR-TIMEZONE:Europe/Berlin
BEGIN:VEVENT
UID:1-10795@narcotics-anonymous.de
DTSTART;TZID=Europe/Berlin;VALUE=DATE:20220812
DTEND;TZID=Europe/Berlin;VALUE=DATE:20220815
DTSTAMP:20220621T131401Z
URL:https://narcotics-anonymous.de/events/40-jahr-na-darmstadt/
SUMMARY:40 Jahre NA Darmstadt
DESCRIPTION: 
CATEGORIES:Convention/Party,Top-Event
LOCATION:Bessunger Knabenschule\, Ludwigshöhstraße 42\, Darmstadt\, Hesse
 n\, 64285\, Deutschland
GEO:49.856003;8.651731
X-APPLE-STRUCTURED-LOCATION;VALUE=URI;X-ADDRESS=Ludwigshöhstraße 42\, Dar
 mstadt\, Hessen\, 64285\, Deutschland;X-APPLE-RADIUS=100;X-TITLE=Bessunger
  Knabenschule:geo:49.856003,8.651731
END:VEVENT
BEGIN:VTIMEZONE
TZID:Europe/Berlin
X-LIC-LOCATION:Europe/Berlin
BEGIN:DAYLIGHT
DTSTART:20220327T030000
TZOFFSETFROM:+0100
TZOFFSETTO:+0200
TZNAME:CEST
END:DAYLIGHT
END:VTIMEZONE
END:VCALENDAR