BEGIN:VCALENDAR
VERSION:2.0
PRODID:-//wp-events-plugin.com//7.2.3.1//EN
TZID:Europe/Berlin
X-WR-TIMEZONE:Europe/Berlin
BEGIN:VEVENT
UID:1-14395@narcotics-anonymous.de
DTSTART;TZID=Europe/Berlin;VALUE=DATE:20250213
DTEND;TZID=Europe/Berlin;VALUE=DATE:20250216
DTSTAMP:20241223T172211Z
URL:https://narcotics-anonymous.de/events/4-asia-pacific-convention-oman/
SUMMARY:4. Asia Pacific Convention: Oman
DESCRIPTION:\n\nMehr Infos hier
ATTACH;FMTTYPE=image/jpeg:https://narcotics-anonymous.de/wp-content/upload
 s/2024/12/APFNA25_crop.jpg
CATEGORIES:Convention/Party,Top-Event
END:VEVENT
BEGIN:VTIMEZONE
TZID:Europe/Berlin
X-LIC-LOCATION:Europe/Berlin
BEGIN:STANDARD
DTSTART:20241027T020000
TZOFFSETFROM:+0200
TZOFFSETTO:+0100
TZNAME:CET
END:STANDARD
END:VTIMEZONE
END:VCALENDAR