BEGIN:VCALENDAR
VERSION:2.0
PRODID:-//wp-events-plugin.com//7.2.3.1//EN
TZID:Europe/Berlin
X-WR-TIMEZONE:Europe/Berlin
BEGIN:VEVENT
UID:1-13800@narcotics-anonymous.de
DTSTART;TZID=Europe/Berlin;VALUE=DATE:20240627
DTEND;TZID=Europe/Berlin;VALUE=DATE:20240701
DTSTAMP:20240521T210709Z
URL:https://narcotics-anonymous.de/events/33-uk-convention-blackpool/
SUMMARY:33. UK-Convention Blackpool
DESCRIPTION:\n\nWeitere Infos hier
ATTACH;FMTTYPE=image/jpeg:https://narcotics-anonymous.de/wp-content/upload
 s/2024/05/2024_UKNA_crop.jpg
CATEGORIES:Convention/Party,Top-Event
LOCATION:Blackpool Norbreck Castle Hotel\, Queens Promenade\, Blackpool\, E
 ngland\, FY2 9AA\, Vereinigtes Königreich
GEO:53.858387;-3.048378
X-APPLE-STRUCTURED-LOCATION;VALUE=URI;X-ADDRESS=Queens Promenade\, Blackpoo
 l\, England\, FY2 9AA\, Vereinigtes Königreich;X-APPLE-RADIUS=100;X-TITLE
 =Blackpool Norbreck Castle Hotel:geo:53.858387,-3.048378
END:VEVENT
BEGIN:VTIMEZONE
TZID:Europe/Berlin
X-LIC-LOCATION:Europe/Berlin
BEGIN:DAYLIGHT
DTSTART:20240331T030000
TZOFFSETFROM:+0100
TZOFFSETTO:+0200
TZNAME:CEST
END:DAYLIGHT
END:VTIMEZONE
END:VCALENDAR