BEGIN:VCALENDAR
VERSION:2.0
PRODID:-//wp-events-plugin.com//7.2.3.1//EN
TZID:Europe/Berlin
X-WR-TIMEZONE:Europe/Berlin
BEGIN:VEVENT
UID:1-12298@narcotics-anonymous.de
DTSTART;TZID=Europe/Berlin;VALUE=DATE:20230901
DTEND;TZID=Europe/Berlin;VALUE=DATE:20230904
DTSTAMP:20230604T173920Z
URL:https://narcotics-anonymous.de/events/3-corinthia-convention/
SUMMARY:3. Corinthia Convention
DESCRIPTION:\n\n\n\nWe invite you to the 3rd local conference of the SE Cor
 inthia region that will take place in Schino Corinthia\, in Alkioni campin
 g\, September 1-3\, 2023.\n\nFor information:\n\nMail: NaCorinthconference
 @gmail.com Antonis +30 6972926000\nGrigoris +30 6943038716\nBabis +30 6940
 901570\n\nInformation subcommittee of the 3rd local conference of Corinth\
 n\n\n\n\ngreece_convention_flyer
CATEGORIES:Convention/Party,Top-Event
LOCATION:ALKYONI Camping Korinth\, ALKYONI Camping\, Korinth\, Peloponnese\
 ,  203 00\, Corinthia\, Griechenland
GEO:37.94007;22.9513
X-APPLE-STRUCTURED-LOCATION;VALUE=URI;X-ADDRESS=ALKYONI Camping\, Korinth\,
  Peloponnese\,  203 00\, Corinthia\, Griechenland;X-APPLE-RADIUS=100;X-TIT
 LE=ALKYONI Camping Korinth:geo:37.94007,22.9513
END:VEVENT
BEGIN:VTIMEZONE
TZID:Europe/Berlin
X-LIC-LOCATION:Europe/Berlin
BEGIN:DAYLIGHT
DTSTART:20230326T030000
TZOFFSETFROM:+0100
TZOFFSETTO:+0200
TZNAME:CEST
END:DAYLIGHT
END:VTIMEZONE
END:VCALENDAR