BEGIN:VCALENDAR
VERSION:2.0
PRODID:-//wp-events-plugin.com//7.2.3.1//EN
TZID:Europe/Berlin
X-WR-TIMEZONE:Europe/Berlin
BEGIN:VEVENT
UID:1-12385@narcotics-anonymous.de
DTSTART;TZID=Europe/Berlin;VALUE=DATE:20231103
DTEND;TZID=Europe/Berlin;VALUE=DATE:20231106
DTSTAMP:20230829T210833Z
URL:https://narcotics-anonymous.de/events/26-schweiz-convention-scna/
SUMMARY:26. Schweiz Convention SCNA
DESCRIPTION:26. SCNA "Step by Step"\n3.-5. November 2023\n\nAdresse\nAdonia
  Gruppenhaus\nGländstrasse 9A\n4803 Vordemwald\n\nÜbernachtung im Haus 
  - bitte Voranmeldung!\nAlle Informationen hierzu siehe Flyer \n\nKontakt\
 naargau@narcotics-anonymous.c\n\n&nbsp\;
CATEGORIES:Convention/Party,Top-Event
END:VEVENT
BEGIN:VTIMEZONE
TZID:Europe/Berlin
X-LIC-LOCATION:Europe/Berlin
BEGIN:STANDARD
DTSTART:20231029T020000
TZOFFSETFROM:+0200
TZOFFSETTO:+0100
TZNAME:CET
END:STANDARD
END:VTIMEZONE
END:VCALENDAR